BEGIN:VCALENDAR
VERSION:2.0
PRODID:-//Virchow Foundation | The Virchow Prize – Towards Health for All - ECPv6.15.20//NONSGML v1.0//EN
CALSCALE:GREGORIAN
METHOD:PUBLISH
X-WR-CALNAME:Virchow Foundation | The Virchow Prize – Towards Health for All
X-ORIGINAL-URL:https://virchowprize.org
X-WR-CALDESC:Events for Virchow Foundation | The Virchow Prize – Towards Health for All
REFRESH-INTERVAL;VALUE=DURATION:PT1H
X-Robots-Tag:noindex
X-PUBLISHED-TTL:PT1H
BEGIN:VTIMEZONE
TZID:Europe/Berlin
BEGIN:DAYLIGHT
TZOFFSETFROM:+0100
TZOFFSETTO:+0200
TZNAME:CEST
DTSTART:20220327T010000
END:DAYLIGHT
BEGIN:STANDARD
TZOFFSETFROM:+0200
TZOFFSETTO:+0100
TZNAME:CET
DTSTART:20221030T010000
END:STANDARD
BEGIN:DAYLIGHT
TZOFFSETFROM:+0100
TZOFFSETTO:+0200
TZNAME:CEST
DTSTART:20230326T010000
END:DAYLIGHT
BEGIN:STANDARD
TZOFFSETFROM:+0200
TZOFFSETTO:+0100
TZNAME:CET
DTSTART:20231029T010000
END:STANDARD
BEGIN:DAYLIGHT
TZOFFSETFROM:+0100
TZOFFSETTO:+0200
TZNAME:CEST
DTSTART:20240331T010000
END:DAYLIGHT
BEGIN:STANDARD
TZOFFSETFROM:+0200
TZOFFSETTO:+0100
TZNAME:CET
DTSTART:20241027T010000
END:STANDARD
END:VTIMEZONE
BEGIN:VEVENT
DTSTART;TZID=Europe/Berlin:20230524T180000
DTEND;TZID=Europe/Berlin:20230524T213000
DTSTAMP:20260425T124332
CREATED:20230417T150726Z
LAST-MODIFIED:20240817T092335Z
UID:7574-1684951200-1684963800@virchowprize.org
SUMMARY:Von der Berliner Schule der Medizin zur Globalen Gesundheit\, ein Markenkern Europäischer Politik
DESCRIPTION:Abendsymposium\nAufbauend auf der Berliner Schule der Medizin im 19. Jahrhundert\, die u. a. geprägt war von Johannes Müller\, Rudolf Virchow und Hermann von Helmholtz\, wurde nach der Wiedervereinigung Deutschlands erneut der Ausbau der Medizin in Richtung einer holistischen Gesundheitswissenschaft fortgeführt. \nNeben der Grundlagenforschung und Klinik wurden besonders auch Public und Global Health Konzepte umgesetzt\, welche von den 17 Nachhaltigkeitszielen der Vereinten Nationen geprägt sind. \nDieses Symposium der Virchow Foundation für Globale Gesundheit und der Berliner Medizinischen Gesellschaft in Kooperation mit dem World Health Summit (WHS) und dem Charité Center for Global Health möchte zu diesem Thema auch im Hinblick auf neue Inhalte und Strukturen vorausschauende Beiträge leisten. \nDie Teilnahme ist kostenlos. Anmeldung über BerlMedGes@mail.de zur unverbindlichen Registrierung. Die Veranstaltung ist von der Berliner Ärztekammer zertifiziert. Updates im Programm vorbehalten. \nProgramm\n \nOrt der Veranstaltung\nLangenbeck-Virchow-Haus \nHistorischer Hörsaal \nLuisenstraße 58/59 \n10117 Berlin-Mitte \nBusverbindung und Parkmöglichkeit\nBus 147 bis zur Haltestelle Charité – Campus Mitte \nParkhaus Luisenstraße 51 \nKontakt\nBerliner Medizinische Gesellschaft \nLangenbeck-Virchow-Haus \nLuisenstraße 58/59 \n10117 Berlin \nTelefon: +49 (0)30 24 08 5000 \nE-Mail: BerlMedGes@mail.de \nVirchow Foundation für Globale Gesundheit\nDie Virchow Foundation für Globale Gesundheit wurde u. a. von den Präsidenten der Nationalen Akademie der Wissenschaften Leopoldina und der Berlin-Brandenburgischen Akademie der Wissenschaften gegründet. Mitglieder des Deutschen Bundestages sowie hochrangige nationale und internationale Expert:innen sind in den Gremien vertreten. Die Virchow Foundation ist in ihrer Arbeit eng an den Nachhaltigkeitszielen der Vereinten Nationen ausgerichtet und fördert insbesondere das Bewusstsein für globale Gesundheitsthemen. Der in diesem Kontext von der gemeinnützigen Stiftung etablierte Virchow Prize for Global Health würdigt jährlich auf hochrangiger internationaler Ebene herausragende Lebensleistungen oder Innovationen\, die maßgeblich zur Verbesserung der Weltgesundheit beigetragen haben. \nBerliner Medizinische Gesellschaft e.V.\nVorsitzender: Prof. Dr. Ivar Roots \nStellvertreter: Prof. Dr. Reinhard Burger · Prof. Dr. Claudia Spies · Prof. Dr. Heinz Zeichhardt \nGeschäftsführender Schriftführer: Dr. Eberhard Neumann-Redlin von Meding
URL:https://virchowprize.org/event/bmg-2023event/
LOCATION:Langenbeck-Virchow-Haus\, Luisenstraße 58/59\, Berlin\, 10117\, Germany
CATEGORIES:Virchow Foundation
ATTACH;FMTTYPE=image/png:https://virchowprize.org/wp-content/uploads/2023/04/BMG-x-VF_Flyer-Screenshot.png
ORGANIZER;CN="Berliner Medizinische Gesellschaft":MAILTO:BerlMedGes@mail.de
END:VEVENT
END:VCALENDAR