BEGIN:VCALENDAR
VERSION:2.0
PRODID:-//Virchow Foundation | The Virchow Prize – Towards Health for All - ECPv6.15.18//NONSGML v1.0//EN
CALSCALE:GREGORIAN
METHOD:PUBLISH
X-WR-CALNAME:Virchow Foundation | The Virchow Prize – Towards Health for All
X-ORIGINAL-URL:https://virchowprize.org
X-WR-CALDESC:Events for Virchow Foundation | The Virchow Prize – Towards Health for All
REFRESH-INTERVAL;VALUE=DURATION:PT1H
X-Robots-Tag:noindex
X-PUBLISHED-TTL:PT1H
BEGIN:VTIMEZONE
TZID:Europe/Berlin
BEGIN:DAYLIGHT
TZOFFSETFROM:+0100
TZOFFSETTO:+0200
TZNAME:CEST
DTSTART:20210328T010000
END:DAYLIGHT
BEGIN:STANDARD
TZOFFSETFROM:+0200
TZOFFSETTO:+0100
TZNAME:CET
DTSTART:20211031T010000
END:STANDARD
BEGIN:DAYLIGHT
TZOFFSETFROM:+0100
TZOFFSETTO:+0200
TZNAME:CEST
DTSTART:20220327T010000
END:DAYLIGHT
BEGIN:STANDARD
TZOFFSETFROM:+0200
TZOFFSETTO:+0100
TZNAME:CET
DTSTART:20221030T010000
END:STANDARD
BEGIN:DAYLIGHT
TZOFFSETFROM:+0100
TZOFFSETTO:+0200
TZNAME:CEST
DTSTART:20230326T010000
END:DAYLIGHT
BEGIN:STANDARD
TZOFFSETFROM:+0200
TZOFFSETTO:+0100
TZNAME:CET
DTSTART:20231029T010000
END:STANDARD
END:VTIMEZONE
BEGIN:VEVENT
DTSTART;TZID=Europe/Berlin:20221130T083000
DTEND;TZID=Europe/Berlin:20221130T140000
DTSTAMP:20260421T181811
CREATED:20221125T132729Z
LAST-MODIFIED:20250815T150011Z
UID:6004-1669797000-1669816800@virchowprize.org
SUMMARY:Implementing a European Strategy for Global Health & One Health
DESCRIPTION:Implementing a European Strategy for Global Health & One Health  \nHybrid Event and Webinar at the Czech Medical Association\nLocation: Czech Medical Association (CzMA) \n> Online Registration \nPurpose of the Event: \n\nDiscuss financing of One Health and Global Health\nHighlight the importance of environmental health in Global Health efforts\, and\nCenter youth involvement in OEGH to ensure sustainability in European health policies\nAnticipate proposals coming from the new EU GH Strategy to be released later that day (Nov 30th)\n\nThis hybrid event in Prague with the Czech Medical Association\, supported by the Virchow Foundation\, takes place on the occasion of the 2022 Czech Presidency of the Council of the European Union. It follows the signing of the Lyon Declaration in February 2022 during the French Presidency of the Council of the European Union\, which prompted the creation of the One Europe for Global Health (OEGH) coalition\, and the subsequent OEGH-organized World Health Summit workshop and side event in October 2022. This series of meetings aims at enabling and strengthening dialogue between governments\, the European Commission\, Council of the EU\, and European civil society professionals. \nThe aim of the Prague event is to bring the young generation on board. If we talk about sustainability and continuity\, we have to invite the young generation to the discussion table since they are going to overtake the main role in the future and will be the engine of future solutions. We can all benefit from these debates and mutual cooperation. \nThis [event] will merge two visions: that of seasoned experts with significant experience in well-being and health\, and the current organization / coordination thereof [with] from diverse cultural\, geopolitical and economic backgrounds; and that of young people who bring a new vision\, new ideals to bring inspiration for change\, integrating environmental\, animal and human health. \nThe mission of OEGH is to improve and integrate Global Health and One Health priorities into European policies\, strategies and actions by engaging European civil society and convening actors from all sectors. OEGH urges European stakeholders in Global Health to make a long-term commitment now for future generations\, act locally while thinking globally\, come together in equity and solidarity\, limit silos with more intersectoral cooperation\, and commit to good governance for a European Health Union.
URL:https://virchowprize.org/event/implementing-a-european-strategy-for-global-health-one-health-november-30-2022-2/
LOCATION:Czech Medical Association (CzMA)\, Sokolská 2\, Prague\, 120 00\, Czech Republic
CATEGORIES:Live Virtual Event,Virchow Foundation for Global Health
ATTACH;FMTTYPE=image/jpeg:https://virchowprize.org/wp-content/uploads/2022/11/OEGH-Prague-30112022.jpg
END:VEVENT
END:VCALENDAR