BEGIN:VCALENDAR
VERSION:2.0
PRODID:-//Virchow Foundation | The Virchow Prize – Towards Health for All - ECPv6.15.18//NONSGML v1.0//EN
CALSCALE:GREGORIAN
METHOD:PUBLISH
X-WR-CALNAME:Virchow Foundation | The Virchow Prize – Towards Health for All
X-ORIGINAL-URL:https://virchowprize.org
X-WR-CALDESC:Events for Virchow Foundation | The Virchow Prize – Towards Health for All
REFRESH-INTERVAL;VALUE=DURATION:PT1H
X-Robots-Tag:noindex
X-PUBLISHED-TTL:PT1H
BEGIN:VTIMEZONE
TZID:Europe/Berlin
BEGIN:DAYLIGHT
TZOFFSETFROM:+0100
TZOFFSETTO:+0200
TZNAME:CEST
DTSTART:20230326T010000
END:DAYLIGHT
BEGIN:STANDARD
TZOFFSETFROM:+0200
TZOFFSETTO:+0100
TZNAME:CET
DTSTART:20231029T010000
END:STANDARD
BEGIN:DAYLIGHT
TZOFFSETFROM:+0100
TZOFFSETTO:+0200
TZNAME:CEST
DTSTART:20240331T010000
END:DAYLIGHT
BEGIN:STANDARD
TZOFFSETFROM:+0200
TZOFFSETTO:+0100
TZNAME:CET
DTSTART:20241027T010000
END:STANDARD
BEGIN:DAYLIGHT
TZOFFSETFROM:+0100
TZOFFSETTO:+0200
TZNAME:CEST
DTSTART:20250330T010000
END:DAYLIGHT
BEGIN:STANDARD
TZOFFSETFROM:+0200
TZOFFSETTO:+0100
TZNAME:CET
DTSTART:20251026T010000
END:STANDARD
END:VTIMEZONE
BEGIN:VEVENT
DTSTART;TZID=Europe/Berlin:20241014T110000
DTEND;TZID=Europe/Berlin:20241014T123000
DTSTAMP:20260421T150243
CREATED:20241013T094301Z
LAST-MODIFIED:20241013T095529Z
UID:12337-1728903600-1728909000@virchowprize.org
SUMMARY:One Digital Health Session
DESCRIPTION:The One Sustainable Health for All Foundation and the Virchow Foundation are co-organizing the One Digital Health Session on October 14\, 2024\, from 11:00 AM to 12:30 PM during the World Health Summit at the French Embassy in Berlin (Germany). \nThis session will focus on real-life examples and challenges where innovative digital solutions\, including through use of AI\, are implemented to enhance\, facilitate or enable the One Sustainable Health approach. In an increasingly interconnected world\, digital health innovations present both opportunities and obstacles in addressing  human\, animal\, and environmental health concerns. This\, for monitoring diseases & conditions for their spreading\, diagnosis\, treatment\, regulatory affairs\, policy development\, economic impact\, healthcare & knowledge / data generation\, storage & curation to name but a few facets. \nThis session will showcase how these technologies have been implemented effectively on the ground\, ensuring that solutions are scalable\, sustainable\, and inclusive. The discussion will incorporate insights from the EU4Health Integration and Impact Initiative (EU4H3I)\, which addresses critical public health challenges such as healthcare disparities\, unequal access to therapies\, and the lack of diversity in clinical trials. \nThe One Digital Health Conference is an hybride event.  \n\nWe look forward to seeing you soon. \nInformations :\nOctober 14\, 2024. From 11:00 am to 12:30 pm\nFrench Embassy – Pariser Platz 5\, Berlin (Germany) – Metro Brandenburger Tor\nContact : brian.rudkin@fondation-usdt.org
URL:https://virchowprize.org/event/one-digital-health-session/
LOCATION:French Embassy Berlin\, Pariser Platz 5\, Berlin\, Berlin\, 10117\, Germany
ATTACH;FMTTYPE=image/jpeg:https://virchowprize.org/wp-content/uploads/2024/10/OSHF-VF_OneDigitalHealth-14102024.jpg
END:VEVENT
END:VCALENDAR