BEGIN:VCALENDAR
VERSION:2.0
PRODID:-//Virchow Foundation | The Virchow Prize – Towards Health for All - ECPv6.15.18//NONSGML v1.0//EN
CALSCALE:GREGORIAN
METHOD:PUBLISH
X-WR-CALNAME:Virchow Foundation | The Virchow Prize – Towards Health for All
X-ORIGINAL-URL:https://virchowprize.org
X-WR-CALDESC:Events for Virchow Foundation | The Virchow Prize – Towards Health for All
REFRESH-INTERVAL;VALUE=DURATION:PT1H
X-Robots-Tag:noindex
X-PUBLISHED-TTL:PT1H
BEGIN:VTIMEZONE
TZID:Europe/Berlin
BEGIN:DAYLIGHT
TZOFFSETFROM:+0100
TZOFFSETTO:+0200
TZNAME:CEST
DTSTART:20220327T010000
END:DAYLIGHT
BEGIN:STANDARD
TZOFFSETFROM:+0200
TZOFFSETTO:+0100
TZNAME:CET
DTSTART:20221030T010000
END:STANDARD
BEGIN:DAYLIGHT
TZOFFSETFROM:+0100
TZOFFSETTO:+0200
TZNAME:CEST
DTSTART:20230326T010000
END:DAYLIGHT
BEGIN:STANDARD
TZOFFSETFROM:+0200
TZOFFSETTO:+0100
TZNAME:CET
DTSTART:20231029T010000
END:STANDARD
BEGIN:DAYLIGHT
TZOFFSETFROM:+0100
TZOFFSETTO:+0200
TZNAME:CEST
DTSTART:20240331T010000
END:DAYLIGHT
BEGIN:STANDARD
TZOFFSETFROM:+0200
TZOFFSETTO:+0100
TZNAME:CET
DTSTART:20241027T010000
END:STANDARD
END:VTIMEZONE
BEGIN:VEVENT
DTSTART;TZID=Europe/Berlin:20231129T100000
DTEND;TZID=Europe/Berlin:20231129T130000
DTSTAMP:20260421T194431
CREATED:20231113T094851Z
LAST-MODIFIED:20231129T091457Z
UID:9735-1701252000-1701262800@virchowprize.org
SUMMARY:One Health | Preparedness\, partnerships and science to prevent systemic health risks
DESCRIPTION:Promoted by the One Europe for Global Health and hosted by ISGlobal Barcelona Institute for Global Health during the Spanish Presidency of the EU\, the meeting will focus on three key elements: Preparedness\, Partnerships and Science as keys to preventing health threats through the One Health approach. \nThe event will provide an opportunity to reflect on three key elements: \n\nThe role of science and research in public decision-making on global health.\nTo focus on the EU’s work on preparedness and response to health emergencies and how the One Health approach has been integrated.\nTo emphasise the need to deepen multi-stakeholder partnerships and alliances around the world\, particularly in the Global South.\n\nThe aim is then to feed these reflections into the public debate and\, in particular\, into EU policy-making on global health and One Health. To this end\, we are convening a group of experts who\, after an initial presentation by the organisers and promoters of the event\, will be able to exchange points of view. \nIf you are interested in attending the event\, please complete the registration form. \nThe upcoming Spanish Presidency to the Council of the European Union will offer a unique opportunity to bridge the north and south through the implication in the regional summit between the EU and the “… Community of Latin America and Caribbean states (CELAC) bringing together European\, Latin American and Caribbean leaders to strengthen relations between both regions. These summits are the main forums for dialogue and cooperation between Europe\, and Latin American and Caribbean states. \nThe One Europe for Global Health coalition aims to carry our message to the leaders present to stimulate awareness and catalyse concrete actions leveraging the conclusions of the One Sustainable Health for All Forum in July 2023. \nAmong the issues to be explored in depth during the Spanish Presidency of the Council of the EU\, it is worth highlighting a reflection on the strengthening and improvement of the health emergency preparedness and response system\, the importance of considering it as a fundamental element of the region’s strategic autonomy. This also includes the anchoring of decision making in scientific evidence\, with clear examples in issues such as immunisation\, antimicrobial resistance and the fight against HIV\, three aspects that have been identified as priorities in the Spanish Presidency’s agenda. Finally\, and related to the implementation of the EU Global Health Strategy\, the dialogue on the importance of the adoption of national strategies by the Member States for the implementation of the “One Health” perspective and the adoption of a common position for the reform of the global health governance system will be important.
URL:https://virchowprize.org/event/one-health-preparedness-partnerships-and-science/
LOCATION:Private: CaixaForum Macaya\, Sala Macaya\, Pg. de St. Joan\, 108\, Barcelona\, 08037\, Spain
CATEGORIES:Virchow Foundation for Global Health,Virchow Foundation for Global Health Partner Organisation
ATTACH;FMTTYPE=image/png:https://virchowprize.org/wp-content/uploads/2023/11/Screenshot-2023-11-13-152445.png
END:VEVENT
END:VCALENDAR