BEGIN:VCALENDAR
VERSION:2.0
PRODID:-//Virchow Foundation | The Virchow Prize – Towards Health for All - ECPv6.15.20//NONSGML v1.0//EN
CALSCALE:GREGORIAN
METHOD:PUBLISH
X-WR-CALNAME:Virchow Foundation | The Virchow Prize – Towards Health for All
X-ORIGINAL-URL:https://virchowprize.org
X-WR-CALDESC:Events for Virchow Foundation | The Virchow Prize – Towards Health for All
REFRESH-INTERVAL;VALUE=DURATION:PT1H
X-Robots-Tag:noindex
X-PUBLISHED-TTL:PT1H
BEGIN:VTIMEZONE
TZID:Europe/Berlin
BEGIN:DAYLIGHT
TZOFFSETFROM:+0100
TZOFFSETTO:+0200
TZNAME:CEST
DTSTART:20220327T010000
END:DAYLIGHT
BEGIN:STANDARD
TZOFFSETFROM:+0200
TZOFFSETTO:+0100
TZNAME:CET
DTSTART:20221030T010000
END:STANDARD
BEGIN:DAYLIGHT
TZOFFSETFROM:+0100
TZOFFSETTO:+0200
TZNAME:CEST
DTSTART:20230326T010000
END:DAYLIGHT
BEGIN:STANDARD
TZOFFSETFROM:+0200
TZOFFSETTO:+0100
TZNAME:CET
DTSTART:20231029T010000
END:STANDARD
BEGIN:DAYLIGHT
TZOFFSETFROM:+0100
TZOFFSETTO:+0200
TZNAME:CEST
DTSTART:20240331T010000
END:DAYLIGHT
BEGIN:STANDARD
TZOFFSETFROM:+0200
TZOFFSETTO:+0100
TZNAME:CET
DTSTART:20241027T010000
END:STANDARD
END:VTIMEZONE
BEGIN:VEVENT
DTSTART;TZID=Europe/Berlin:20230705T090000
DTEND;TZID=Europe/Berlin:20230707T180000
DTSTAMP:20260425T144817
CREATED:20230418T090115Z
LAST-MODIFIED:20230418T095512Z
UID:7598-1688547600-1688752800@virchowprize.org
SUMMARY:One Sustainable Health for All Forum 2023
DESCRIPTION:Tackling together health challenges of the social and environmental crisis\nGlobal Forum on inclusive and adaptive systems for health which will be held in Lyon\, France at the Musée des Confluences and virtually from July 5 – 7\, 2023. Registration via this >link \nThe One Sustainable Health for all Forum was launched in July\, 2021\, in Lyon. It brings together more than fifty professional and civil society organizations working across the globe on a holistic approach to health\, one that takes into account human\, animal and environmental health. \nOver the past two years\, the forum has convened a cross disciplinary network of experts collaborating through six permanent working groups. The forum has also hosted a series of conferences and webinars\, tying together the social and environmental agenda through a holistic approach to health. \nIts main goal is to contribute towards a country based operational approach defined by the principles of One Sustainable Health. \nThe first Global Forum will be held from July 5 to 7\, 2023 at the Musée des Confluences in Lyon. This 3-day international event will bring together high-level political and technical stakeholders from different countries to discuss the recommendations drafted by the six international working groups and map out the path towards the integration of a One Sustainable Health approach in budgets\, programs\, and projects at country-level. \nIt will take place as a multisite event\, both on site and virtually with international sessions planned live from Bangladesh\, Pakistan\, Senegal\, Brazil\, Lebanon and Germany\, as part of an inclusive process. \nThe Foundation welcomes professionals from all public and private organisations wishing to share their experience and question the status quo\, aware of the need to go beyond silos in order to move forward in an interdisciplinary alliance\, harnessing new methods of international cooperation to address the social and environmental challenges in health.
URL:https://virchowprize.org/event/one-sustainable-health-for-all-forum-lyon/
LOCATION:Musée des Confluences Lyon\, 86 Quai Perrache\, 69002 Lyon\, France
CATEGORIES:Virchow Foundation
ATTACH;FMTTYPE=image/png:https://virchowprize.org/wp-content/uploads/2023/04/Screenshot-2023-04-18-at-11.25.12.png
END:VEVENT
END:VCALENDAR