BEGIN:VCALENDAR
VERSION:2.0
PRODID:-//Virchow Foundation | The Virchow Prize – Towards Health for All - ECPv6.15.18//NONSGML v1.0//EN
CALSCALE:GREGORIAN
METHOD:PUBLISH
X-WR-CALNAME:Virchow Foundation | The Virchow Prize – Towards Health for All
X-ORIGINAL-URL:https://virchowprize.org
X-WR-CALDESC:Events for Virchow Foundation | The Virchow Prize – Towards Health for All
REFRESH-INTERVAL;VALUE=DURATION:PT1H
X-Robots-Tag:noindex
X-PUBLISHED-TTL:PT1H
BEGIN:VTIMEZONE
TZID:Europe/Berlin
BEGIN:DAYLIGHT
TZOFFSETFROM:+0100
TZOFFSETTO:+0200
TZNAME:CEST
DTSTART:20240331T010000
END:DAYLIGHT
BEGIN:STANDARD
TZOFFSETFROM:+0200
TZOFFSETTO:+0100
TZNAME:CET
DTSTART:20241027T010000
END:STANDARD
BEGIN:DAYLIGHT
TZOFFSETFROM:+0100
TZOFFSETTO:+0200
TZNAME:CEST
DTSTART:20250330T010000
END:DAYLIGHT
BEGIN:STANDARD
TZOFFSETFROM:+0200
TZOFFSETTO:+0100
TZNAME:CET
DTSTART:20251026T010000
END:STANDARD
BEGIN:DAYLIGHT
TZOFFSETFROM:+0100
TZOFFSETTO:+0200
TZNAME:CEST
DTSTART:20260329T010000
END:DAYLIGHT
BEGIN:STANDARD
TZOFFSETFROM:+0200
TZOFFSETTO:+0100
TZNAME:CET
DTSTART:20261025T010000
END:STANDARD
END:VTIMEZONE
BEGIN:VEVENT
DTSTART;TZID=Europe/Berlin:20251014T110000
DTEND;TZID=Europe/Berlin:20251014T123000
DTSTAMP:20260421T164003
CREATED:20251004T105114Z
LAST-MODIFIED:20251004T105436Z
UID:14530-1760439600-1760445000@virchowprize.org
SUMMARY:"Migrant Health: Reinforcing Global Commitment Amidst Geopolitical and Funding Shifts”
DESCRIPTION:October 14\, 2025 | 11:00 – 12:30 CET during the World Health Summit in Berlin\nMigration and displacement are defining features of our era\, intersecting with conflict\, climate change\, and global inequities. As political and funding landscapes shift\, the health of migrants and refugees risks being deprioritised\, despite the clear evidence that there can be no public health without migrant health. \nWe invite you to a side-level event entitled “No Public Health Without Migrant Health: Reinforcing Global Commitment Amidst Geopolitical and Funding Shifts” \n\n\n\nDate and Time\nTuesday\, 14 October 2025\, 11:00-12:30 CET\n\n\nLocation\n Berlin Global Health Collective\n\n\nAddress\nDorotheenstr. 83 | Entry: Neustädtischer Kirchplatz\nDE-10117 Berlin\, Germany\n[8 min driving distance from the WHS venue]\n\n\n\nCo-hosted by Virchow Foundation and GHA – German Health Alliance and supported by the World Health Organization (WHO) and other partners\, this event takes place against the backdrop of the World Health Summit (WHS) in Berlin\, October 12-14\, 2025. \nIt builds on WHO’s Global Action Plan on promoting the health of refugees and migrants\, as well as the Joint Call “Reinforcing the Commitment to Addressing Migration & Health as a Global Public Health Priority” initiated by the Virchow Foundation end of May 2025 on the sidelines of the 78th World Health Assembly and endorsed by nearly 40 international organisations and institutions. Please see annex to this letter and https://joint-call.org \nThe dedicated event will bring together policymakers\, practitioners\, researchers\, donors\, and migrant voices to reaffirm global commitments\, highlight innovative practices\, and chart pathways toward resilient\, inclusive\, and rights-based health systems. \nThis event is in-person only. Please confirm your participation by registering through this link: https://forms.office.com/e/pDmVzGbwNw \nWe look very much forward to your participation.
URL:https://virchowprize.org/event/side-event-no-public-health-without-migrant-health-reinforcing-global-commitment-amidst-geopolitical-and-funding-shifts/
LOCATION:Berlin Global Health Collective\, Dorotheenstr. 83\, Berlin\, 10117\, Germany
CATEGORIES:Live Virtual Event,The Virchow Prize,Virchow Foundation for Global Health Partner Organisation
ATTACH;FMTTYPE=image/jpeg:https://virchowprize.org/wp-content/uploads/2025/10/VF-GHA-Event.jpg
ORGANIZER;CN="Virchow Foundation":MAILTO:secretariat@virchow.foundation
END:VEVENT
END:VCALENDAR