BEGIN:VCALENDAR
VERSION:2.0
PRODID:-//Virchow Foundation | The Virchow Prize – Towards Health for All - ECPv6.15.20//NONSGML v1.0//EN
CALSCALE:GREGORIAN
METHOD:PUBLISH
X-WR-CALNAME:Virchow Foundation | The Virchow Prize – Towards Health for All
X-ORIGINAL-URL:https://virchowprize.org
X-WR-CALDESC:Events for Virchow Foundation | The Virchow Prize – Towards Health for All
REFRESH-INTERVAL;VALUE=DURATION:PT1H
X-Robots-Tag:noindex
X-PUBLISHED-TTL:PT1H
BEGIN:VTIMEZONE
TZID:Europe/Berlin
BEGIN:DAYLIGHT
TZOFFSETFROM:+0100
TZOFFSETTO:+0200
TZNAME:CEST
DTSTART:20250330T010000
END:DAYLIGHT
BEGIN:STANDARD
TZOFFSETFROM:+0200
TZOFFSETTO:+0100
TZNAME:CET
DTSTART:20251026T010000
END:STANDARD
BEGIN:DAYLIGHT
TZOFFSETFROM:+0100
TZOFFSETTO:+0200
TZNAME:CEST
DTSTART:20260329T010000
END:DAYLIGHT
BEGIN:STANDARD
TZOFFSETFROM:+0200
TZOFFSETTO:+0100
TZNAME:CET
DTSTART:20261025T010000
END:STANDARD
BEGIN:DAYLIGHT
TZOFFSETFROM:+0100
TZOFFSETTO:+0200
TZNAME:CEST
DTSTART:20270328T010000
END:DAYLIGHT
BEGIN:STANDARD
TZOFFSETFROM:+0200
TZOFFSETTO:+0100
TZNAME:CET
DTSTART:20271031T010000
END:STANDARD
END:VTIMEZONE
BEGIN:VEVENT
DTSTART;TZID=Europe/Berlin:20261010T160000
DTEND;TZID=Europe/Berlin:20261010T180000
DTSTAMP:20260424T161334
CREATED:20260421T195720Z
LAST-MODIFIED:20260421T202721Z
UID:14746-1791648000-1791655200@virchowprize.org
SUMMARY:The Virchow Prize Lecture | The Virchow Prize Ceremony 2026 – Towards Health for All
DESCRIPTION:The Virchow Prize\, awarded by the non-profit Virchow Foundation\, is a major international award which recognizes and celebrates outstanding achievements towards “health for all” that are closely linked to the Sustainable Development Goals of the United Nations 2030 Agenda. \nThis year\, the Virchow Prize Lecture and Virchow Prize Ceremony will celebrate its 5th anniversary\, being held on Saturday\, October 10\, 2026 at Rotes Rathaus Berlin (Berlin City Hall)\, hosted by the Governing Mayor of Berlin\, Kai Wegner\, High Patron of the Virchow Foundation\, and followed by a reception. \nJoin us for this special global health event in Berlin. More programme details to follow.
URL:https://virchowprize.org/event/the-virchow-prize-lecture-the-virchow-prize-ceremony-2026/
LOCATION:Great Ceremonial Hall of the Red City Hall\, Rathausstr. 15\, Berlin\, 10178\, Germany
CATEGORIES:Major Global Health Event International,The Virchow Prize,Virchow Foundation
ATTACH;FMTTYPE=image/jpeg:https://virchowprize.org/wp-content/uploads/2025/03/virchow_-bust-trophies.jpg
END:VEVENT
END:VCALENDAR