BEGIN:VCALENDAR
VERSION:2.0
PRODID:-//Virchow Foundation | The Virchow Prize – Towards Health for All - ECPv6.15.20//NONSGML v1.0//EN
CALSCALE:GREGORIAN
METHOD:PUBLISH
X-WR-CALNAME:Virchow Foundation | The Virchow Prize – Towards Health for All
X-ORIGINAL-URL:https://virchowprize.org
X-WR-CALDESC:Events for Virchow Foundation | The Virchow Prize – Towards Health for All
REFRESH-INTERVAL;VALUE=DURATION:PT1H
X-Robots-Tag:noindex
X-PUBLISHED-TTL:PT1H
BEGIN:VTIMEZONE
TZID:Pacific/Easter
BEGIN:STANDARD
TZOFFSETFROM:-0500
TZOFFSETTO:-0600
TZNAME:-06
DTSTART:20220403T030000
END:STANDARD
BEGIN:DAYLIGHT
TZOFFSETFROM:-0600
TZOFFSETTO:-0500
TZNAME:-05
DTSTART:20220911T040000
END:DAYLIGHT
BEGIN:STANDARD
TZOFFSETFROM:-0500
TZOFFSETTO:-0600
TZNAME:-06
DTSTART:20230402T030000
END:STANDARD
BEGIN:DAYLIGHT
TZOFFSETFROM:-0600
TZOFFSETTO:-0500
TZNAME:-05
DTSTART:20230903T040000
END:DAYLIGHT
BEGIN:STANDARD
TZOFFSETFROM:-0500
TZOFFSETTO:-0600
TZNAME:-06
DTSTART:20240407T030000
END:STANDARD
BEGIN:DAYLIGHT
TZOFFSETFROM:-0600
TZOFFSETTO:-0500
TZNAME:-05
DTSTART:20240908T040000
END:DAYLIGHT
END:VTIMEZONE
BEGIN:VEVENT
DTSTART;TZID=Pacific/Easter:20230413T080000
DTEND;TZID=Pacific/Easter:20230413T090000
DTSTAMP:20260425T124340
CREATED:20230405T080210Z
LAST-MODIFIED:20230405T083217Z
UID:7067-1681372800-1681376400@virchowprize.org
SUMMARY:Breaking Down Barriers - Promoting partnerships between parliamentarians and academia
DESCRIPTION:During the WHS Regional Meeting 2023\, UNITE Parliamentarians Network is jointly with the Virchow Foundation organising a session in Washington to discuss the critical need to promote collaborations between academia and policymakers. The aim of this event is to explore ways to advance evidence-based health policies through effective partnerships. \nDate: 13th of April\nTime: 8:00 am to 9:00 am\nVenue: Washington Hilton\nRegistration link: >Link \nAccording to UNITE’s President\, Ricardo Baptista Leite\, “one of the key benefits of collaboration between policymakers and academia is the ability to develop and implement evidence-based interventions that are informed by high-quality research”. By working together\, policymakers and academics can leverage research evidence to design and implement public health policies and interventions that are tailored to the unique needs of their communities. This can lead to more effective interventions and significant improvements in public health outcomes. \nHowever\, effective collaboration between policymakers and academia requires a significant investment of time and resources. Academics must be willing to engage with policymakers and work collaboratively to identify solutions to complex public health challenges. They must also take responsibility for translating their research findings into policies and practices that have a real-world impact. Similarly\, policymakers must be open to collaborating with academics and willing to incorporate research evidence into their decision-making processes. \nIn this session\, policymakers such as Hon. Andrew Ullmann from Germany\, Hon. Akua Sena Dansua from Ghana\, and Hon. Ricardo Baptista Leite from Portugal will convene a discussion with participants on the way forward. This event provides a unique opportunity for participants to learn about successful examples of collaborations between policymakers and academics and to discuss ways to further promote such partnerships. \nJoin us for this event to engage in fruitful discussions and explore ways to advance evidence-based health policies through effective collaborations between academia and policymakers.
URL:https://virchowprize.org/event/unite-breaking-down-barriers/
LOCATION:Washington Hilton\, 1919 Connecticut Ave.\, NW\, Washington\, DC\, 20009\, WA\, 20009\, United States
CATEGORIES:Virchow Foundation
ATTACH;FMTTYPE=image/png:https://virchowprize.org/wp-content/uploads/2023/04/UNITE-session-cropped.png
END:VEVENT
END:VCALENDAR