BEGIN:VCALENDAR
VERSION:2.0
PRODID:-//Virchow Foundation | The Virchow Prize – Towards Health for All - ECPv6.15.18//NONSGML v1.0//EN
CALSCALE:GREGORIAN
METHOD:PUBLISH
X-WR-CALNAME:Virchow Foundation | The Virchow Prize – Towards Health for All
X-ORIGINAL-URL:https://virchowprize.org
X-WR-CALDESC:Events for Virchow Foundation | The Virchow Prize – Towards Health for All
REFRESH-INTERVAL;VALUE=DURATION:PT1H
X-Robots-Tag:noindex
X-PUBLISHED-TTL:PT1H
BEGIN:VTIMEZONE
TZID:Europe/Berlin
BEGIN:DAYLIGHT
TZOFFSETFROM:+0100
TZOFFSETTO:+0200
TZNAME:CEST
DTSTART:20240331T010000
END:DAYLIGHT
BEGIN:STANDARD
TZOFFSETFROM:+0200
TZOFFSETTO:+0100
TZNAME:CET
DTSTART:20241027T010000
END:STANDARD
BEGIN:DAYLIGHT
TZOFFSETFROM:+0100
TZOFFSETTO:+0200
TZNAME:CEST
DTSTART:20250330T010000
END:DAYLIGHT
BEGIN:STANDARD
TZOFFSETFROM:+0200
TZOFFSETTO:+0100
TZNAME:CET
DTSTART:20251026T010000
END:STANDARD
BEGIN:DAYLIGHT
TZOFFSETFROM:+0100
TZOFFSETTO:+0200
TZNAME:CEST
DTSTART:20260329T010000
END:DAYLIGHT
BEGIN:STANDARD
TZOFFSETFROM:+0200
TZOFFSETTO:+0100
TZNAME:CET
DTSTART:20261025T010000
END:STANDARD
END:VTIMEZONE
BEGIN:VEVENT
DTSTART;VALUE=DATE:20250425
DTEND;VALUE=DATE:20250428
DTSTAMP:20260421T183758
CREATED:20250210T094053Z
LAST-MODIFIED:20250210T094152Z
UID:13086-1745539200-1745798399@virchowprize.org
SUMMARY:WHS Regional Meeting 2025
DESCRIPTION:The WHS Regional Meeting 2025 from April 25-27 in New Delhi convenes experts and leaders to work together towards building a healthier future for the region by addressing its most pressing challenges and promoting global health progress\, focusing on the overall theme “Scaling Access to Ensure Health Equity.” \nWHS REGIONAL MEETING 2025
URL:https://virchowprize.org/event/whs-regional-meeting-2025/
LOCATION:Bharat Mandapam\, Pragati Maidan\, New Delhi\, 110001\, India
CATEGORIES:Major Global Health Event International
ATTACH;FMTTYPE=image/png:https://virchowprize.org/wp-content/uploads/2025/02/WHS-RM25.png
END:VEVENT
END:VCALENDAR