BEGIN:VCALENDAR
VERSION:2.0
PRODID:-//Virchow Foundation | The Virchow Prize – Towards Health for All - ECPv6.15.18//NONSGML v1.0//EN
CALSCALE:GREGORIAN
METHOD:PUBLISH
X-WR-CALNAME:Virchow Foundation | The Virchow Prize – Towards Health for All
X-ORIGINAL-URL:https://virchowprize.org
X-WR-CALDESC:Events for Virchow Foundation | The Virchow Prize – Towards Health for All
REFRESH-INTERVAL;VALUE=DURATION:PT1H
X-Robots-Tag:noindex
X-PUBLISHED-TTL:PT1H
BEGIN:VTIMEZONE
TZID:Europe/Berlin
BEGIN:DAYLIGHT
TZOFFSETFROM:+0100
TZOFFSETTO:+0200
TZNAME:CEST
DTSTART:20240331T010000
END:DAYLIGHT
BEGIN:STANDARD
TZOFFSETFROM:+0200
TZOFFSETTO:+0100
TZNAME:CET
DTSTART:20241027T010000
END:STANDARD
BEGIN:DAYLIGHT
TZOFFSETFROM:+0100
TZOFFSETTO:+0200
TZNAME:CEST
DTSTART:20250330T010000
END:DAYLIGHT
BEGIN:STANDARD
TZOFFSETFROM:+0200
TZOFFSETTO:+0100
TZNAME:CET
DTSTART:20251026T010000
END:STANDARD
BEGIN:DAYLIGHT
TZOFFSETFROM:+0100
TZOFFSETTO:+0200
TZNAME:CEST
DTSTART:20260329T010000
END:DAYLIGHT
BEGIN:STANDARD
TZOFFSETFROM:+0200
TZOFFSETTO:+0100
TZNAME:CET
DTSTART:20261025T010000
END:STANDARD
END:VTIMEZONE
BEGIN:VEVENT
DTSTART;VALUE=DATE:20251012
DTEND;VALUE=DATE:20251015
DTSTAMP:20260421T194004
CREATED:20250210T065411Z
LAST-MODIFIED:20251004T105403Z
UID:13069-1760227200-1760486399@virchowprize.org
SUMMARY:World Health Summit 2025
DESCRIPTION:The World Health Summit 2025 takes place from October 12-14 in Berlin and online. The World Health Summit is a unique international strategic forum for global health. Held annually in Berlin\, it brings together stakeholders from politics\, science\, the private sector\, and civil society from around the world to set the agenda for a healthier future by inspiring innovative solutions for better health and well-being for all. \nEvery year on the eve of the World Health Summit\, the Virchow Prize Ceremony takes places\, kicking off an exciting week for global health in Berlin. \nWORLD HEALTH SUMMIT 2025
URL:https://virchowprize.org/event/world-health-summit-2024-2/
LOCATION:InterContinental Berlin\, Budapester Str. 2\, Berlin\, 10787\, Germany
CATEGORIES:Major Global Health Event International
ATTACH;FMTTYPE=image/png:https://virchowprize.org/wp-content/uploads/2025/02/WHS_2025.png
END:VEVENT
END:VCALENDAR