BEGIN:VCALENDAR
VERSION:2.0
PRODID:-//Virchow Foundation | The Virchow Prize – Towards Health for All - ECPv6.15.18//NONSGML v1.0//EN
CALSCALE:GREGORIAN
METHOD:PUBLISH
X-WR-CALNAME:Virchow Foundation | The Virchow Prize – Towards Health for All
X-ORIGINAL-URL:https://virchowprize.org
X-WR-CALDESC:Events for Virchow Foundation | The Virchow Prize – Towards Health for All
REFRESH-INTERVAL;VALUE=DURATION:PT1H
X-Robots-Tag:noindex
X-PUBLISHED-TTL:PT1H
BEGIN:VTIMEZONE
TZID:Europe/Berlin
BEGIN:DAYLIGHT
TZOFFSETFROM:+0100
TZOFFSETTO:+0200
TZNAME:CEST
DTSTART:20230326T010000
END:DAYLIGHT
BEGIN:STANDARD
TZOFFSETFROM:+0200
TZOFFSETTO:+0100
TZNAME:CET
DTSTART:20231029T010000
END:STANDARD
BEGIN:DAYLIGHT
TZOFFSETFROM:+0100
TZOFFSETTO:+0200
TZNAME:CEST
DTSTART:20240331T010000
END:DAYLIGHT
BEGIN:STANDARD
TZOFFSETFROM:+0200
TZOFFSETTO:+0100
TZNAME:CET
DTSTART:20241027T010000
END:STANDARD
BEGIN:DAYLIGHT
TZOFFSETFROM:+0100
TZOFFSETTO:+0200
TZNAME:CEST
DTSTART:20250330T010000
END:DAYLIGHT
BEGIN:STANDARD
TZOFFSETFROM:+0200
TZOFFSETTO:+0100
TZNAME:CET
DTSTART:20251026T010000
END:STANDARD
END:VTIMEZONE
BEGIN:VEVENT
DTSTART;TZID=Europe/Berlin:20241013T080000
DTEND;TZID=Europe/Berlin:20241015T180000
DTSTAMP:20260421T180135
CREATED:20240103T161732Z
LAST-MODIFIED:20250210T065838Z
UID:10157-1728806400-1729015200@virchowprize.org
SUMMARY:World Health Summit 2024
DESCRIPTION:The World Health Summit is a unique international strategic forum for global health. Held annually in Berlin\, it brings together stakeholders from politics\, science\, the private sector\, and civil society from around the world to set the agenda for a healthier future by inspiring innovative solutions for better health and well-being for all. \nThe World Health Summit 2024 takes place from October 13-15 in Berlin and online. Every year on the eve of the World Health Summit\, the Virchow Prize for Global Health Award Ceremony takes places\, kicking off an exciting week for global health in Berlin.
URL:https://virchowprize.org/event/world-health-summit-2024/
CATEGORIES:Major Global Health Event International
ATTACH;FMTTYPE=image/png:https://virchowprize.org/wp-content/uploads/2024/01/WHS-2024.png
END:VEVENT
END:VCALENDAR