BEGIN:VCALENDAR
VERSION:2.0
PRODID:-//Virchow Foundation | The Virchow Prize – Towards Health for All - ECPv6.15.18//NONSGML v1.0//EN
CALSCALE:GREGORIAN
METHOD:PUBLISH
X-WR-CALNAME:Virchow Foundation | The Virchow Prize – Towards Health for All
X-ORIGINAL-URL:https://virchowprize.org
X-WR-CALDESC:Events for Virchow Foundation | The Virchow Prize – Towards Health for All
REFRESH-INTERVAL;VALUE=DURATION:PT1H
X-Robots-Tag:noindex
X-PUBLISHED-TTL:PT1H
BEGIN:VTIMEZONE
TZID:Europe/Berlin
BEGIN:DAYLIGHT
TZOFFSETFROM:+0100
TZOFFSETTO:+0200
TZNAME:CEST
DTSTART:20210328T010000
END:DAYLIGHT
BEGIN:STANDARD
TZOFFSETFROM:+0200
TZOFFSETTO:+0100
TZNAME:CET
DTSTART:20211031T010000
END:STANDARD
BEGIN:DAYLIGHT
TZOFFSETFROM:+0100
TZOFFSETTO:+0200
TZNAME:CEST
DTSTART:20220327T010000
END:DAYLIGHT
BEGIN:STANDARD
TZOFFSETFROM:+0200
TZOFFSETTO:+0100
TZNAME:CET
DTSTART:20221030T010000
END:STANDARD
BEGIN:DAYLIGHT
TZOFFSETFROM:+0100
TZOFFSETTO:+0200
TZNAME:CEST
DTSTART:20230326T010000
END:DAYLIGHT
BEGIN:STANDARD
TZOFFSETFROM:+0200
TZOFFSETTO:+0100
TZNAME:CET
DTSTART:20231029T010000
END:STANDARD
END:VTIMEZONE
BEGIN:VEVENT
DTSTART;TZID=Europe/Berlin:20220208T140000
DTEND;TZID=Europe/Berlin:20220208T170000
DTSTAMP:20260421T181522
CREATED:20220113T064850Z
LAST-MODIFIED:20221101T144704Z
UID:2183-1644328800-1644339600@virchowprize.org
SUMMARY:"Building European Health Union"
DESCRIPTION:  \nOn the occasion of the European Ministers of Health and Foreign Affairs meeting in Lyon on February 9th\, the One Sustainable Health Forum has the pleasure to invite you to participate in the online conference led by experts from the civil society (Associations\, Foundations\, Universities\, Scholarly Academies\, etc.) to promote a consensus of recommendations to the EU Ministers. The Virchow Foundation for Global Health is partner of this event. \n“Building European Health Union – Taking global responsibility!” \n\n\n\n\n\n\n\n\n\nLessons from the Covid-19 pandemic\nCaring for people and their environment\nEmbracing global health responsibilities\nEmpowering ways to build European Health Union\nThe essence of recommendations from EU civil society experts\nAs part of the French Presidency of the Council of the European Union (PFUE) 2022\, a summary of recommendations from European experts from civil society will be presented to the European Ministers of Health and Foreign Affairs\, as well as to mayors of major European cities.\n\nDETAILED CONFERENCE PROGRAMME \nONLINE REGISTRATION FORM \nFor further information\, please send email. \n\n\n\n\n\n\n\n\n\n\n\n\n\n 
URL:https://virchowprize.org/event/building-a-european-health-union/
LOCATION:Live Virtual Event
CATEGORIES:Live Virtual Event
ATTACH;FMTTYPE=image/png:https://virchowprize.org/wp-content/uploads/2022/02/OSHForum-08022022.png
END:VEVENT
END:VCALENDAR